BEGIN:VCALENDAR
VERSION:2.0
PRODID:-//eventon.com NONSGML v1.0//EN
CALSCALE:GREGORIAN
METHOD:PUBLISH
BEGIN:VEVENT
UID:69e6051be5fd4
DTSTAMP:20260420T105107Z
DTSTART:20250925
DTEND:20250926
LOCATION:
SUMMARY:EICOP Entertainment Career Forum: Hampton University
DESCRIPTION:Thursday\,  September 25\,  2025Career Fair: 10:00 AM – 3:00 
 PM EDTForum: 4:30 PM EDT Join us for the EICOP Entertainment Career Forum +
  Career Fair\,  presented by the Hampton University Career Center. This eve
 nt is open to all students — no matter your major or school. If you are c
 urrently[..]\nhttps://eicop.org/events/eicop-entertainment-career-forum-ham
 pton-university/
URL:https://eicop.org/events/eicop-entertainment-career-forum-hampton-university/
END:VEVENT
END:VCALENDAR