BEGIN:VCALENDAR
VERSION:2.0
PRODID:-//eventon.com NONSGML v1.0//EN
CALSCALE:GREGORIAN
METHOD:PUBLISH
BEGIN:VEVENT
UID:69e8ab3ee1138
DTSTAMP:20260422T110430Z
DTSTART:20250929
DTEND:20250930
LOCATION:
SUMMARY:EICOP Entertainment Career Forum – North Carolina A&T State University
DESCRIPTION:Monday\,  September 29\,  2025 – 3:00 PM EDT Join us for the 
 EICOP Entertainment Career Forum\,  presented at North Carolina Agricultura
 l &amp; Technical State University. This event is open to all students — 
 no matter your major or school. If you are currently enrolled at any accred
 ited college or university\, [..]\nhttps://eicop.org/events/eicop-entertain
 ment-career-forum-north-carolina-at-state-university/
URL:https://eicop.org/events/eicop-entertainment-career-forum-north-carolina-at-state-university/
END:VEVENT
END:VCALENDAR