BEGIN:VCALENDAR
VERSION:2.0
PRODID:-//eventon.com NONSGML v1.0//EN
CALSCALE:GREGORIAN
METHOD:PUBLISH
BEGIN:VEVENT
UID:69e738685c721
DTSTAMP:20260421T084216Z
DTSTART:20251028
DTEND:20251029
LOCATION:
SUMMARY:EICOP Entertainment Career Forum – University of Arkansas at Pine Bluff
DESCRIPTION:Tuesday\,  October 28\,  2025 – 11:00 AM CDT Join us for the 
 EICOP Entertainment Career Forum\,  presented by the University of Arkansas
  at Pine Bluff Office of Career Services. This event is open to all student
 s — no matter your major or school. If you are currently enrolled at any[
 ..]\nhttps://eicop.org/events/eicop-entertainment-career-forum-university-o
 f-arkansas-at-pine-bluff/
URL:https://eicop.org/events/eicop-entertainment-career-forum-university-of-arkansas-at-pine-bluff/
END:VEVENT
END:VCALENDAR