BEGIN:VCALENDAR
VERSION:2.0
PRODID:-//eventon.com NONSGML v1.0//EN
CALSCALE:GREGORIAN
METHOD:PUBLISH
BEGIN:VEVENT
UID:69e605241b798
DTSTAMP:20260420T105116Z
DTSTART:20251016
DTEND:20251017
LOCATION:
SUMMARY:EICOP Entertainment Career Forum – Talladega College
DESCRIPTION:Thursday\,  October 16\,  2025 – 11:00 AM CDT Join us for the
  EICOP Entertainment Career Forum\,  presented by the Talladega College Stu
 dent Success Center. This event is open to all students — no matter your 
 major or school. If you are currently enrolled at any accredited college or
  university\,  you[..]\nhttps://eicop.org/events/eicop-entertainment-career
 -forum-talladega-college/
URL:https://eicop.org/events/eicop-entertainment-career-forum-talladega-college/
END:VEVENT
END:VCALENDAR