BEGIN:VCALENDAR
VERSION:2.0
PRODID:-//eventon.com NONSGML v1.0//EN
CALSCALE:GREGORIAN
METHOD:PUBLISH
BEGIN:VEVENT
UID:69e60b049d8cd
DTSTAMP:20260420T111620Z
DTSTART:20251014
DTEND:20251015
LOCATION:
SUMMARY:EICOP Entertainment Career Forum – Alabama A&M University
DESCRIPTION:Tuesday\,  October 14\,  2025 – 3:30 PM CDT Join us for the E
 ICOP Entertainment Career Forum\,  presented by Alabama A&amp;M University 
 Career Development Services. This event is open to all students — no matt
 er your major or school. If you are currently enrolled at any accredited co
 llege or university\,  you[..]\nhttps://eicop.org/events/eicop-entertainmen
 t-career-forum-alabama-am-university/
URL:https://eicop.org/events/eicop-entertainment-career-forum-alabama-am-university/
END:VEVENT
END:VCALENDAR