BEGIN:VCALENDAR
VERSION:2.0
PRODID:-//eventon.com NONSGML v1.0//EN
CALSCALE:GREGORIAN
METHOD:PUBLISH
BEGIN:VEVENT
UID:69e60610b0e07
DTSTAMP:20260420T105512Z
DTSTART:20251008
DTEND:20251009
LOCATION:
SUMMARY:EICOP Entertainment Career Forum – Grambling State University
DESCRIPTION:Wednesday\,  October 8\,  2025 – 1:00 PM CDT Join us for the 
 EICOP Entertainment Career Forum\,  presented by the Grambling State Univer
 sity Center for Career and Professional Development. This event is open to 
 all students — no matter your major or school. If you are currently enrol
 led at any accredited[..]\nhttps://eicop.org/events/eicop-entertainment-car
 eer-forum-grambling-state-university/
URL:https://eicop.org/events/eicop-entertainment-career-forum-grambling-state-university/
END:VEVENT
END:VCALENDAR