BEGIN:VCALENDAR
VERSION:2.0
PRODID:-//eventon.com NONSGML v1.0//EN
CALSCALE:GREGORIAN
METHOD:PUBLISH
BEGIN:VEVENT
UID:69e60634a9916
DTSTAMP:20260420T105548Z
DTSTART:20250923
DTEND:20250924
LOCATION:
SUMMARY:EICOP Entertainment Career Forum – Savannah State University
DESCRIPTION:Tuesday\,  September 23\,  2025 The Savannah State University C
 ollege of Media\,  Arts\,  and Communication Department of Journalism and M
 ass Communications invites you to the EICOP Entertainment Career Forum. Thi
 s event is open to all students — no matter your major or school. If you 
 are currently enrolled at any accredited[..]\nhttps://eicop.org/events/eico
 p-entertainment-career-forum-savannah-state-university/
URL:https://eicop.org/events/eicop-entertainment-career-forum-savannah-state-university/
END:VEVENT
END:VCALENDAR